BEGIN:VCALENDAR
VERSION:2.0
PRODID:-//Spojená škola, Jána Vojtaššáka 13, Žilina - ECPv6.0.8//NONSGML v1.0//EN
CALSCALE:GREGORIAN
METHOD:PUBLISH
X-WR-CALNAME:Spojená škola, Jána Vojtaššáka 13, Žilina
X-ORIGINAL-URL:https://www.szsza.sk
X-WR-CALDESC:Events for Spojená škola, Jána Vojtaššáka 13, Žilina
REFRESH-INTERVAL;VALUE=DURATION:PT1H
X-Robots-Tag:noindex
X-PUBLISHED-TTL:PT1H
BEGIN:VTIMEZONE
TZID:Europe/Bratislava
BEGIN:DAYLIGHT
TZOFFSETFROM:+0100
TZOFFSETTO:+0200
TZNAME:CEST
DTSTART:20200329T010000
END:DAYLIGHT
BEGIN:STANDARD
TZOFFSETFROM:+0200
TZOFFSETTO:+0100
TZNAME:CET
DTSTART:20201025T010000
END:STANDARD
END:VTIMEZONE
BEGIN:VEVENT
DTSTART;VALUE=DATE:20200701
DTEND;VALUE=DATE:20200902
DTSTAMP:20260422T033141
CREATED:20190821T065622Z
LAST-MODIFIED:20190821T065622Z
UID:3335-1593561600-1599004799@www.szsza.sk
SUMMARY:Letné prázdniny
DESCRIPTION:Letné: 1. júl (streda) až 31. august 2020 (pondelok). Vyučovanie sa začne 2. septembra 2020 (streda).
URL:https://www.szsza.sk/event/letne-prazdniny-2/
END:VEVENT
END:VCALENDAR