BEGIN:VCALENDAR
VERSION:2.0
PRODID:-//Spojená škola, Jána Vojtaššáka 13, Žilina - ECPv6.0.8//NONSGML v1.0//EN
CALSCALE:GREGORIAN
METHOD:PUBLISH
X-WR-CALNAME:Spojená škola, Jána Vojtaššáka 13, Žilina
X-ORIGINAL-URL:https://www.szsza.sk
X-WR-CALDESC:Events for Spojená škola, Jána Vojtaššáka 13, Žilina
REFRESH-INTERVAL;VALUE=DURATION:PT1H
X-Robots-Tag:noindex
X-PUBLISHED-TTL:PT1H
BEGIN:VTIMEZONE
TZID:Europe/Bratislava
BEGIN:DAYLIGHT
TZOFFSETFROM:+0100
TZOFFSETTO:+0200
TZNAME:CEST
DTSTART:20190331T010000
END:DAYLIGHT
BEGIN:STANDARD
TZOFFSETFROM:+0200
TZOFFSETTO:+0100
TZNAME:CET
DTSTART:20191027T010000
END:STANDARD
END:VTIMEZONE
BEGIN:VEVENT
DTSTART;TZID=Europe/Bratislava:20191024T134500
DTEND;TZID=Europe/Bratislava:20191024T150000
DTSTAMP:20260423T192621
CREATED:20191007T165930Z
LAST-MODIFIED:20191007T165930Z
UID:3523-1571924700-1571929200@www.szsza.sk
SUMMARY:Tvorivé dielne
DESCRIPTION:Tvorivé dielne – Darček pre starých rodičov ŠKD\, deti v popoludňajšej činnosti budú vyrábať darček pre starých rodičov pri príležitosti Dňa úcty k starším.
URL:https://www.szsza.sk/event/tvorive-dielne/
CATEGORIES:Školský klub detí
END:VEVENT
END:VCALENDAR