BEGIN:VCALENDAR
VERSION:2.0
PRODID:-//Spojená škola, Jána Vojtaššáka 13, Žilina - ECPv6.0.8//NONSGML v1.0//EN
CALSCALE:GREGORIAN
METHOD:PUBLISH
X-ORIGINAL-URL:https://www.szsza.sk
X-WR-CALDESC:Events for Spojená škola, Jána Vojtaššáka 13, Žilina
REFRESH-INTERVAL;VALUE=DURATION:PT1H
X-Robots-Tag:noindex
X-PUBLISHED-TTL:PT1H
BEGIN:VTIMEZONE
TZID:Europe/Bratislava
BEGIN:DAYLIGHT
TZOFFSETFROM:+0100
TZOFFSETTO:+0200
TZNAME:CEST
DTSTART:20190331T010000
END:DAYLIGHT
BEGIN:STANDARD
TZOFFSETFROM:+0200
TZOFFSETTO:+0100
TZNAME:CET
DTSTART:20191027T010000
END:STANDARD
END:VTIMEZONE
BEGIN:VEVENT
DTSTART;TZID=Europe/Bratislava:20190627T080000
DTEND;TZID=Europe/Bratislava:20190627T090000
DTSTAMP:20260424T025323
CREATED:20190603T103053Z
LAST-MODIFIED:20190603T103053Z
UID:2964-1561622400-1561626000@www.szsza.sk
SUMMARY:Slávnostné ukončenie školského roka
DESCRIPTION:Slávnostné ukončenie školského roka a odovzdanie vysvedčení bude dňa 27. 6. 2019.
URL:https://www.szsza.sk/event/slavnostne-ukoncenie-skolskeho-roka/
CATEGORIES:Školský klub detí,Špeciálna materská škola,Špeciálna základná škola,Všeobecné
END:VEVENT
END:VCALENDAR