BEGIN:VCALENDAR
VERSION:2.0
PRODID:-//Spojená škola, Jána Vojtaššáka 13, Žilina - ECPv6.0.8//NONSGML v1.0//EN
CALSCALE:GREGORIAN
METHOD:PUBLISH
X-WR-CALNAME:Spojená škola, Jána Vojtaššáka 13, Žilina
X-ORIGINAL-URL:https://www.szsza.sk
X-WR-CALDESC:Events for Spojená škola, Jána Vojtaššáka 13, Žilina
REFRESH-INTERVAL;VALUE=DURATION:PT1H
X-Robots-Tag:noindex
X-PUBLISHED-TTL:PT1H
BEGIN:VTIMEZONE
TZID:Europe/Bratislava
BEGIN:DAYLIGHT
TZOFFSETFROM:+0100
TZOFFSETTO:+0200
TZNAME:CEST
DTSTART:20190331T010000
END:DAYLIGHT
BEGIN:STANDARD
TZOFFSETFROM:+0200
TZOFFSETTO:+0100
TZNAME:CET
DTSTART:20191027T010000
END:STANDARD
END:VTIMEZONE
BEGIN:VEVENT
DTSTART;TZID=Europe/Bratislava:20191212T133000
DTEND;TZID=Europe/Bratislava:20191212T153000
DTSTAMP:20260423T175957
CREATED:20191208T165844Z
LAST-MODIFIED:20191208T165844Z
UID:4095-1576157400-1576164600@www.szsza.sk
SUMMARY:Tvorivé dielne – zdobenie perníkov v ŠKD
DESCRIPTION:Dňa 12. 12. si panie vychovávateľky pripravili pre deti predvianočné pracovné popoludnie so zdobením medovníkov.
URL:https://www.szsza.sk/event/tvorive-dielne-zdobenie-pernikov-v-skd/
LOCATION:Špeciálna základná škola s materskou školou\, Jána Vojtaššáka 13\, Žilina\, 01008\, Slovenská republika
CATEGORIES:Školský klub detí
END:VEVENT
END:VCALENDAR