BEGIN:VCALENDAR
VERSION:2.0
PRODID:-//Spojená škola, Jána Vojtaššáka 13, Žilina - ECPv6.0.8//NONSGML v1.0//EN
CALSCALE:GREGORIAN
METHOD:PUBLISH
X-WR-CALNAME:Spojená škola, Jána Vojtaššáka 13, Žilina
X-ORIGINAL-URL:https://www.szsza.sk
X-WR-CALDESC:Events for Spojená škola, Jána Vojtaššáka 13, Žilina
REFRESH-INTERVAL;VALUE=DURATION:PT1H
X-Robots-Tag:noindex
X-PUBLISHED-TTL:PT1H
BEGIN:VTIMEZONE
TZID:Europe/Bratislava
BEGIN:DAYLIGHT
TZOFFSETFROM:+0100
TZOFFSETTO:+0200
TZNAME:CEST
DTSTART:20190331T010000
END:DAYLIGHT
BEGIN:STANDARD
TZOFFSETFROM:+0200
TZOFFSETTO:+0100
TZNAME:CET
DTSTART:20191027T010000
END:STANDARD
BEGIN:DAYLIGHT
TZOFFSETFROM:+0100
TZOFFSETTO:+0200
TZNAME:CEST
DTSTART:20200329T010000
END:DAYLIGHT
BEGIN:STANDARD
TZOFFSETFROM:+0200
TZOFFSETTO:+0100
TZNAME:CET
DTSTART:20201025T010000
END:STANDARD
END:VTIMEZONE
BEGIN:VEVENT
DTSTART;VALUE=DATE:20200409
DTEND;VALUE=DATE:20200415
DTSTAMP:20260422T064739
CREATED:20190821T065458Z
LAST-MODIFIED:20190821T065458Z
UID:3333-1586390400-1586908799@www.szsza.sk
SUMMARY:Veľkonočné prázdniny
DESCRIPTION:Veľkonočné: 9. apríl (štvrtok) až 14. apríl 2020 (utorok). Školské vyučovanie sa začne 15. apríla 2020 (streda).
URL:https://www.szsza.sk/event/velkonocne-prazdniny/
END:VEVENT
BEGIN:VEVENT
DTSTART;VALUE=DATE:20200316
DTEND;VALUE=DATE:20200601
DTSTAMP:20260422T064739
CREATED:20200313T084834Z
LAST-MODIFIED:20200429T131049Z
UID:4517-1584316800-1590969599@www.szsza.sk
SUMMARY:Prerušenie vyučovania
DESCRIPTION:Ministerka školstva\, vedy\, výskumu a športu Slovenskej republiky podľa ustanovenia § 3 ods. 8 vyhlášky č. 231/2009 Z. z. Ministerstva školstva SR o podrobnostiach o organizácii školského roka na základných školách\, na stredných školách\, na základných umeleckých školách\, na praktických školách\, na odborných učilištiach a na jazykových školách v dôsledku ohrozenia života a zdravia detí\, žiakov alebo zamestnancov škôl a školských zariadení na základe rozhodnutia hlavného hygienika a záverov Ústredného krízového štábu\, ktoré je zapríčinené šírením respiračného ochorenia vyvolaného novým koronavírusom COVID-19 prerušuje vyučovanie na školách a školských zariadeniach v období od 16. marca 2020 do 27. marca 2020 vrátane. \n  \nvedenie školy
URL:https://www.szsza.sk/event/prerusenie-vyucovania/
CATEGORIES:Centrum špeciálno - pedagogického poradenstva,Školský klub detí,Špeciálna materská škola,Špeciálna základná škola
END:VEVENT
BEGIN:VEVENT
DTSTART;VALUE=DATE:20200313
DTEND;VALUE=DATE:20200314
DTSTAMP:20260422T064739
CREATED:20200313T085042Z
LAST-MODIFIED:20200313T085147Z
UID:4520-1584057600-1584143999@www.szsza.sk
SUMMARY:Riaditeľské voľno
DESCRIPTION:Z prevádzkových dôvodov dňa 13. marca 2020 riaditeľka školy udeľuje žiakom riaditeľské voľno.
URL:https://www.szsza.sk/event/4520/
CATEGORIES:Centrum špeciálno - pedagogického poradenstva,Školský klub detí,Špeciálna materská škola,Špeciálna základná škola
END:VEVENT
BEGIN:VEVENT
DTSTART;VALUE=DATE:20200224
DTEND;VALUE=DATE:20200302
DTSTAMP:20260422T064739
CREATED:20190821T065313Z
LAST-MODIFIED:20190821T065313Z
UID:3331-1582502400-1583107199@www.szsza.sk
SUMMARY:Jarné prázdniny
DESCRIPTION:Jarné: Banskobystrický\, Žilinský a Trenčiansky kraj – 24. február (pondelok) až 28. február 2020 (piatok). Školské vyučovanie sa začne 2. marca 2020 (pondelok).
URL:https://www.szsza.sk/event/jarne-prazdniny/
END:VEVENT
BEGIN:VEVENT
DTSTART;TZID=Europe/Bratislava:20200211T114500
DTEND;TZID=Europe/Bratislava:20200211T123000
DTSTAMP:20260422T064739
CREATED:20200218T202736Z
LAST-MODIFIED:20200218T202736Z
UID:4410-1581421500-1581424200@www.szsza.sk
SUMMARY:Vyhodnotenie výsledkov národného kola súťaže Ochranárik
DESCRIPTION:Náš žiak postúpil v súťaži Ochranárik do kola v Banskej Bystrici. Dňa 11. 2. bude slávnostné vyhodnotenie.
URL:https://www.szsza.sk/event/vyhodnotenie-vysledkov-narodneho-kola-sutaze-ochranarik/
END:VEVENT
BEGIN:VEVENT
DTSTART;VALUE=DATE:20200203
DTEND;VALUE=DATE:20200204
DTSTAMP:20260422T064739
CREATED:20190821T065152Z
LAST-MODIFIED:20190821T065346Z
UID:3329-1580688000-1580774399@www.szsza.sk
SUMMARY:Polročné prázdniny
DESCRIPTION:Polročné: 3. február 2020 (pondelok). Školské vyučovanie sa začne 4. februára 2020 (utorok).
URL:https://www.szsza.sk/event/polrocne-prazdniny/
END:VEVENT
BEGIN:VEVENT
DTSTART;VALUE=DATE:20191223
DTEND;VALUE=DATE:20200108
DTSTAMP:20260422T064739
CREATED:20190821T065033Z
LAST-MODIFIED:20190821T065057Z
UID:3325-1577059200-1578441599@www.szsza.sk
SUMMARY:Vianočné prázdniny
DESCRIPTION:Vianočné: 23. december 2019 (pondelok) až 7. január 2020 (utorok). Školské vyučovanie sa začne 8. januára 2020 (streda).
URL:https://www.szsza.sk/event/vianocne-prazdniny/
END:VEVENT
BEGIN:VEVENT
DTSTART;TZID=Europe/Bratislava:20191219T133000
DTEND;TZID=Europe/Bratislava:20191219T153000
DTSTAMP:20260422T064739
CREATED:20191208T170302Z
LAST-MODIFIED:20191208T170322Z
UID:4097-1576762200-1576769400@www.szsza.sk
SUMMARY:Posedenie pri vianočnom punči v ŠKD
DESCRIPTION:Už tradične\, tesne pred prázdninami\, si deti z ŠKD pripravia vlastný vianočný punč a posedia pri koledách.
URL:https://www.szsza.sk/event/posedenie-pri-vianocnom-punci-v-skd/
CATEGORIES:Školský klub detí
END:VEVENT
BEGIN:VEVENT
DTSTART;TZID=Europe/Bratislava:20191218T093000
DTEND;TZID=Europe/Bratislava:20191218T103000
DTSTAMP:20260422T064739
CREATED:20191208T165514Z
LAST-MODIFIED:20191208T165514Z
UID:4090-1576661400-1576665000@www.szsza.sk
SUMMARY:Návšteva Krajskej knižnice - Vesmír
DESCRIPTION:Žiaci druhého stupňa sa zúčastnia podujatia v Krajskej knižnici s názvom Vesmír. \n 
URL:https://www.szsza.sk/event/navsteva-krajskej-kniznice-vesmir/
LOCATION:Krajská knižnica v Žiline\, Ul. A.Bernoláka 47\, Žilina\, 01177\, Slovenská republika
END:VEVENT
BEGIN:VEVENT
DTSTART;TZID=Europe/Bratislava:20191217T080000
DTEND;TZID=Europe/Bratislava:20191217T120000
DTSTAMP:20260422T064739
CREATED:20191202T085552Z
LAST-MODIFIED:20191202T085639Z
UID:4047-1576569600-1576584000@www.szsza.sk
SUMMARY:Vianočná akadémia
DESCRIPTION:
URL:https://www.szsza.sk/event/vianocna-akademia/
LOCATION:mestké divadlo\, Horný val č. 3\, Žilina\, Slovenská republika\, 01001
CATEGORIES:Centrum špeciálno - pedagogického poradenstva,Školský klub detí,Špeciálna materská škola,Špeciálna základná škola
END:VEVENT
BEGIN:VEVENT
DTSTART;TZID=Europe/Bratislava:20191212T133000
DTEND;TZID=Europe/Bratislava:20191212T153000
DTSTAMP:20260422T064739
CREATED:20191208T165844Z
LAST-MODIFIED:20191208T165844Z
UID:4095-1576157400-1576164600@www.szsza.sk
SUMMARY:Tvorivé dielne – zdobenie perníkov v ŠKD
DESCRIPTION:Dňa 12. 12. si panie vychovávateľky pripravili pre deti predvianočné pracovné popoludnie so zdobením medovníkov.
URL:https://www.szsza.sk/event/tvorive-dielne-zdobenie-pernikov-v-skd/
LOCATION:Špeciálna základná škola s materskou školou\, Jána Vojtaššáka 13\, Žilina\, 01008\, Slovenská republika
CATEGORIES:Školský klub detí
END:VEVENT
BEGIN:VEVENT
DTSTART;TZID=Europe/Bratislava:20191210T090000
DTEND;TZID=Europe/Bratislava:20191210T110000
DTSTAMP:20260422T064739
CREATED:20191208T165649Z
LAST-MODIFIED:20191209T120621Z
UID:4092-1575968400-1575975600@www.szsza.sk
SUMMARY:Posedenie pri stromčeku v ŠMŠ
DESCRIPTION:Deti materskej školy sa zúčastnia podujatia „posedenie pri stromčeku“.
URL:https://www.szsza.sk/event/posedenie-pri-stromceku-v-sms/
LOCATION:Špeciálna základná škola s materskou školou\, Jána Vojtaššáka 13\, Žilina\, 01008\, Slovenská republika
CATEGORIES:Špeciálna materská škola
END:VEVENT
BEGIN:VEVENT
DTSTART;TZID=Europe/Bratislava:20191210T080000
DTEND;TZID=Europe/Bratislava:20191210T133000
DTSTAMP:20260422T064739
CREATED:20191208T165114Z
LAST-MODIFIED:20191208T165114Z
UID:4087-1575964800-1575984600@www.szsza.sk
SUMMARY:Zdobenie medovníkov v Spojenenj škole v Čadci
DESCRIPTION:Dvaja naši žiaci s pani učiteľkou Hollou sa zúčastnia zdobenia medovníkov v Spojenej škole v Čadci. \nZaručený recept zo školy: \n„Potrebujeme:\n 2 zručných žiakov z Vašej školy\n 1 pedagogický dozor\n 1 hrnček dobrej nálady\n 2 hrnčeky tvorivosti \nPostup:\nO 9.00 hod. sa všetci pozvaní\npostupne zamiešajú do priestorov\nSpojenej školy v Čadci.\nVmieša sa dobrá nálada a tvorivosť.\nVýsledkom budú zdobené medovníčky.“
URL:https://www.szsza.sk/event/zdobenie-medovnikov-v-spojenenj-skole-v-cadci/
LOCATION:Spojená škola\,  Čadca\, Palárikova 2758\, Čadca\, Slovenská republika\, 02201\, Slovenská republika
CATEGORIES:Špeciálna základná škola
END:VEVENT
BEGIN:VEVENT
DTSTART;TZID=Europe/Bratislava:20191206T110000
DTEND;TZID=Europe/Bratislava:20191206T123000
DTSTAMP:20260422T064739
CREATED:20191205T164427Z
LAST-MODIFIED:20191209T123341Z
UID:4085-1575630000-1575635400@www.szsza.sk
SUMMARY:Návšteva študentov Žilinskej Univerzity
DESCRIPTION:Dňa 6. 12. 2019 nás navštívia študenti Žilinskej Univerzity  v rámci projektu ESN SLOVAKIA. Študenti budú s našimi žiakmi realizovať výtvarné aktivity. \n                                                                                                                                                                                                                               20191206 114110                                                                                                                                                                                                              20191206 112213                                                                                                                                                                                                              20191206 112408                                                                                                                                                                                                              20191206 113158                                                                                                                                                                                                              20191206 112834                                                                                                                                                                                                              20191206 113333                                                                                                                                                                                                              20191206 113336                                                                                                                                                                                                              20191206 113752                                                                                                                                                                                                              20191206 113428                                                                                                                                                                                                              20191206 113756                                                                                                                                                                                                              20191206 113804                                                                                                                                                                                                              20191206 115502                                                                                                                                                                                                              20191206 114115                                                                                                                                                                                                              20191206 114724                                                                                                                                                                                                              20191206 115525                                                                                                                                                                                                              20191206 115528                                                                                                                                                                                                              20191206 115823                                                                                                                                                                                                              20191206 120001                                                                                                                                                                                                              20191206 115918                                                                                                                                                                                                              20191206 120141                                                                                                                                                                                                              20191206 110323                                                                                                                                                                                                              20191206 112133                                                                                                                                                                                                              20191206 111220                                                                                                                                                                                                              20191206 112210                                                                                                                                                                                                              20191206 110331                                                                                                                                                                                                              20191206 120603                                                                                                                                                                                                              20191206 121034                                                                                                                                                                                                              20191206 121058
URL:https://www.szsza.sk/event/navsteva-studentov-zilinskej-univerzity/
LOCATION:Špeciálna základná škola s materskou školou\, Jána Vojtaššáka 13\, Žilina\, 01008\, Slovenská republika
CATEGORIES:Špeciálna základná škola
END:VEVENT
BEGIN:VEVENT
DTSTART;TZID=Europe/Bratislava:20191206T090000
DTEND;TZID=Europe/Bratislava:20191206T110000
DTSTAMP:20260422T064740
CREATED:20191205T164036Z
LAST-MODIFIED:20191208T164557Z
UID:4083-1575622800-1575630000@www.szsza.sk
SUMMARY:Mikuláš
DESCRIPTION:
URL:https://www.szsza.sk/event/mikulas/
LOCATION:Špeciálna základná škola s materskou školou\, Jána Vojtaššáka 13\, Žilina\, 01008\, Slovenská republika
CATEGORIES:Školský klub detí,Špeciálna materská škola,Špeciálna základná škola
END:VEVENT
BEGIN:VEVENT
DTSTART;TZID=Europe/Bratislava:20191205T080000
DTEND;TZID=Europe/Bratislava:20191205T120000
DTSTAMP:20260422T064740
CREATED:20191202T104713Z
LAST-MODIFIED:20191202T104740Z
UID:4056-1575532800-1575547200@www.szsza.sk
SUMMARY:Dielne zručnosti 2019
DESCRIPTION:Dňa 5. 12. sa dvaja naši žiaci spolu s pani učiteľkou Mikovets zúčastnia dielní zručností v Spojená škola\,J. M. Hurbana 36\, 010 01 Žilina.
URL:https://www.szsza.sk/event/dielne-zrucnosti-2019/
LOCATION:Spojená škola J. M Hurbana\, J. M. Hurbana 36\, Žilina\, Slovenská republika\, 01001\, Slovenská republika
END:VEVENT
BEGIN:VEVENT
DTSTART;TZID=Europe/Bratislava:20191126T103000
DTEND;TZID=Europe/Bratislava:20191126T113000
DTSTAMP:20260422T064740
CREATED:20191104T192218Z
LAST-MODIFIED:20191104T192218Z
UID:3825-1574764200-1574767800@www.szsza.sk
SUMMARY:Návšteva Krajskej knižnice v Žiline - "Zvieratká domáce a voľne žijúce"
DESCRIPTION:Žiaci vybraných tried prvého stupňa ŠZŠ sa v Krajskej knižnice v Žiline  zúčastnia aktivity s názvom  „Zvieratká domáce a voľne žijúce“.
URL:https://www.szsza.sk/event/navsteva-krajskej-kniznice-v-ziline-zvieratka-domace-a-volne-zijuce/
LOCATION:Krajská knižnica v Žiline\, Ul. A.Bernoláka 47\, Žilina\, 01177\, Slovenská republika
CATEGORIES:Špeciálna základná škola
END:VEVENT
BEGIN:VEVENT
DTSTART;TZID=Europe/Bratislava:20191121T080000
DTEND;TZID=Europe/Bratislava:20191121T140000
DTSTAMP:20260422T064740
CREATED:20191104T191931Z
LAST-MODIFIED:20191104T192740Z
UID:3823-1574323200-1574344800@www.szsza.sk
SUMMARY:Deň otvorených dverí v SŠI v Kysuckom Novom Meste
DESCRIPTION:SŠI v Kysuckom Novom Meste srdečne pozýva žiakov a rodičov na deň otvorených dverí. Z našej školy sa ho zúčastnia žiaci 8. 9. a 10. ročníka a ich triedne učiteľky.
URL:https://www.szsza.sk/event/den-otvorenych-dveri-v-ssi-v-kysuckom-novom-meste/
CATEGORIES:Centrum špeciálno - pedagogického poradenstva,Špeciálna základná škola
END:VEVENT
BEGIN:VEVENT
DTSTART;TZID=Europe/Bratislava:20191114T134500
DTEND;TZID=Europe/Bratislava:20191114T144500
DTSTAMP:20260422T064740
CREATED:20191104T192621Z
LAST-MODIFIED:20191104T192710Z
UID:3830-1573739100-1573742700@www.szsza.sk
SUMMARY:Stolnotenisový turnaj v ŠKD
DESCRIPTION:V popoludňajších hodinách sa deti zúčastnia na podujatí „Stolnotenisový turnaj v ŠKD“. Všetkým súťažiacim držíme palce a veríme\, že si športové súťaženie dobre užijú.
URL:https://www.szsza.sk/event/stolnotenisovy-turnaj-v-skd/
LOCATION:Špeciálna základná škola s materskou školou\, Jána Vojtaššáka 13\, Žilina\, 01008\, Slovenská republika
CATEGORIES:Školský klub detí
END:VEVENT
BEGIN:VEVENT
DTSTART;TZID=Europe/Bratislava:20191114T090000
DTEND;TZID=Europe/Bratislava:20191114T100000
DTSTAMP:20260422T064740
CREATED:20191106T070811Z
LAST-MODIFIED:20191106T070811Z
UID:3856-1573722000-1573725600@www.szsza.sk
SUMMARY:Koncert pre starších žiakov v DU Fatra
DESCRIPTION:DU Fatra pripravilo filmovú hudbu s videoprojekciou\, ktorú bude moderovať Martin Vanek. Koncerty pripravujeme k výročiu Nežnej revolúcie. Dirigovať bude mladý dirigent zo Žiliny Adam Sedlický\, ktorý je aj dirigentom Národného divadla moravskosliezskeho v Ostrave. \n30 ROKOV SLOBODY \nKoncerty k 30. výročiu Nežnej revolúcie pre školy \núčinkujú: Štátny komorný orchester Žilina\, Adam Sedlický\, dirigent\, Martin Vanek\, moderovanie \nUkážky z filmovej hudby\, na programe sú diela Mozarta\, Morriconeho\, Bernsteina\, Williamsa a ďalších. \nVstupné sú 2 kultúrne poukazy alebo 2 €
URL:https://www.szsza.sk/event/koncert-pre-starsich-ziakov-v-du-fatra/
LOCATION:Štátny komorný orchester Žilina\, Dolný val 47 011 28 Žilina\, Dolný val 47\, Žilina\, 011 28
END:VEVENT
BEGIN:VEVENT
DTSTART;TZID=Europe/Bratislava:20191111T140000
DTEND;TZID=Europe/Bratislava:20191111T150000
DTSTAMP:20260422T064740
CREATED:20191104T191520Z
LAST-MODIFIED:20191104T191520Z
UID:3821-1573480800-1573484400@www.szsza.sk
SUMMARY:Pedagogická rada
DESCRIPTION:
URL:https://www.szsza.sk/event/pedagogicka-rada/
END:VEVENT
BEGIN:VEVENT
DTSTART;TZID=Europe/Bratislava:20191106T103000
DTEND;TZID=Europe/Bratislava:20191106T111500
DTSTAMP:20260422T064740
CREATED:20191104T191404Z
LAST-MODIFIED:20191104T191404Z
UID:3817-1573036200-1573038900@www.szsza.sk
SUMMARY:Divadlo Portál – Zlatá rybka
DESCRIPTION:V priestoroch našej školy sa uskutoční divadelné predstavenie „Zlatá rybka“.
URL:https://www.szsza.sk/event/divadlo-portal-zlata-rybka/
LOCATION:Špeciálna základná škola s materskou školou\, Jána Vojtaššáka 13\, Žilina\, 01008\, Slovenská republika
CATEGORIES:Špeciálna materská škola,Špeciálna základná škola
END:VEVENT
BEGIN:VEVENT
DTSTART;TZID=Europe/Bratislava:20191104T134500
DTEND;TZID=Europe/Bratislava:20191104T144500
DTSTAMP:20260422T064740
CREATED:20191104T192417Z
LAST-MODIFIED:20191104T192417Z
UID:3827-1572875100-1572878700@www.szsza.sk
SUMMARY:Príprava zdravých nátierok
DESCRIPTION:V školskom klube sa aj v tomto mesiaci deti dobre zabavia. Už na začiatku mesiaca si pripravia zdravé nátierky spolu so svojimi vychovávateľkami.
URL:https://www.szsza.sk/event/priprava-zdravych-natierok/
LOCATION:Špeciálna základná škola s materskou školou\, Jána Vojtaššáka 13\, Žilina\, 01008\, Slovenská republika
CATEGORIES:Školský klub detí
END:VEVENT
BEGIN:VEVENT
DTSTART;VALUE=DATE:20191030
DTEND;VALUE=DATE:20191102
DTSTAMP:20260422T064740
CREATED:20190821T064948Z
LAST-MODIFIED:20190821T065123Z
UID:3323-1572393600-1572652799@www.szsza.sk
SUMMARY:Jesenné prázdniny
DESCRIPTION:Jesenné: 30. október (streda) až 31. október 2019 (štvrtok). Školské vyučovanie sa začne 4. novembra 2019 (pondelok).
URL:https://www.szsza.sk/event/jesenne-prazdniny/
END:VEVENT
BEGIN:VEVENT
DTSTART;TZID=Europe/Bratislava:20191029T080000
DTEND;TZID=Europe/Bratislava:20191029T130000
DTSTAMP:20260422T064740
CREATED:20191017T082357Z
LAST-MODIFIED:20191017T082708Z
UID:3535-1572336000-1572354000@www.szsza.sk
SUMMARY:Deň otvorených dverí v Spojenej škole internátnej
DESCRIPTION:Srdečne pozývame rodičov našich žiakov na DOD v Spojenej škole internátna v Žiline\, ktorý sa uskutoční v utorok 29.10.2019 od 08:00 do 13:00 hod. v priestoroch Spojenej školy internátnej\, Fatranská 3321/22\, Žilina – Vlčince. \n \n 
URL:https://www.szsza.sk/event/den-otvorenych-dveri-v-spojenej-skole-internatnej/
LOCATION:Spojená škola intenátna\, Fatranská\, Fatranská 3321/22\, Žilina\, Slovenská republika\, 01008\, Slovenská republika
END:VEVENT
BEGIN:VEVENT
DTSTART;TZID=Europe/Bratislava:20191028T093000
DTEND;TZID=Europe/Bratislava:20191028T103000
DTSTAMP:20260422T064740
CREATED:20190906T052646Z
LAST-MODIFIED:20190929T173133Z
UID:3392-1572255000-1572258600@www.szsza.sk
SUMMARY:Podujatie v Krajskej knižnici v Žiline - Život v škole
DESCRIPTION:Žiaci 7. A\, 8. A a 9. A sa zúčastnia podujatia v Krajskej knižnici v Žiline. Termín bol presunutý zo septembra.
URL:https://www.szsza.sk/event/podujatie-v-krajskej-kniznici-v-ziline-zivot-v-skole/
LOCATION:Krajská knižnica v Žiline\, Ul. A.Bernoláka 47\, Žilina\, 01177\, Slovenská republika
END:VEVENT
BEGIN:VEVENT
DTSTART;TZID=Europe/Bratislava:20191024T134500
DTEND;TZID=Europe/Bratislava:20191024T150000
DTSTAMP:20260422T064740
CREATED:20191007T165930Z
LAST-MODIFIED:20191007T165930Z
UID:3523-1571924700-1571929200@www.szsza.sk
SUMMARY:Tvorivé dielne
DESCRIPTION:Tvorivé dielne – Darček pre starých rodičov ŠKD\, deti v popoludňajšej činnosti budú vyrábať darček pre starých rodičov pri príležitosti Dňa úcty k starším.
URL:https://www.szsza.sk/event/tvorive-dielne/
CATEGORIES:Školský klub detí
END:VEVENT
BEGIN:VEVENT
DTSTART;TZID=Europe/Bratislava:20191024T080000
DTEND;TZID=Europe/Bratislava:20191024T170000
DTSTAMP:20260422T064740
CREATED:20191003T120322Z
LAST-MODIFIED:20191017T105514Z
UID:3507-1571904000-1571936400@www.szsza.sk
SUMMARY:Deň Jablka ŠMŠ
DESCRIPTION:Zábavné dopoludnie v ŠMŠ nadväzujúce na Deň jablka. Deti sa zúčastnia rôznych zábavných hier\, jednoduchých environmentálnych aktivít. \n 
URL:https://www.szsza.sk/event/3507/
CATEGORIES:Špeciálna materská škola
END:VEVENT
BEGIN:VEVENT
DTSTART;TZID=Europe/Bratislava:20191023T083000
DTEND;TZID=Europe/Bratislava:20191023T093000
DTSTAMP:20260422T064740
CREATED:20190929T173540Z
LAST-MODIFIED:20191017T105621Z
UID:3498-1571819400-1571823000@www.szsza.sk
SUMMARY:Divadielko: Babadlo: Ako psíček a mačička ...
DESCRIPTION:V priestoroch našej školy sa bude konať divadelné predstavenie bábkového divadla Babadlo. Zúčastnia sa ho deti a žiaci materskej a základnej školy. Platba za predstavenie bude realizovaná prostredníctvom kultúrnych poukazov.
URL:https://www.szsza.sk/event/divadielko-babadlo-ako-psicek-a-macicka/
LOCATION:Špeciálna základná škola s materskou školou\, Jána Vojtaššáka 13\, Žilina\, 01008\, Slovenská republika
CATEGORIES:Špeciálna materská škola,Špeciálna základná škola
END:VEVENT
BEGIN:VEVENT
DTSTART;TZID=Europe/Bratislava:20191018T100000
DTEND;TZID=Europe/Bratislava:20191018T110000
DTSTAMP:20260422T064740
CREATED:20191003T120809Z
LAST-MODIFIED:20191003T120833Z
UID:3511-1571392800-1571396400@www.szsza.sk
SUMMARY:Prezentácia Spojenej školy v Kysuckom Novom Meste pre končiacich žiakov a ich rodičov
DESCRIPTION:Dňa 18. 10. 2019 o 10\, 00 hod. sa uskutoční v priestoroch našej školy (PC učebňa) prezentácia Spojenej školy internátnej v Kysuckom Novom Meste. Zamestnanci Spojenej školy predstavia odborné učilište\, učebné odbory a praktickú školu. Stretnutia sa zúčastnia žiaci 8.\, 9. a 10. ročníka našej školy.  \nSrdečne pozývame na stretnutie aj rodičov našich žiakov.
URL:https://www.szsza.sk/event/prezentacia-spojenej-skoly-v-kysuckom-novom-meste-pre-konciacich-ziakov-a-ich-rodicov/
LOCATION:Špeciálna základná škola s materskou školou\, Jána Vojtaššáka 13\, Žilina\, 01008\, Slovenská republika
END:VEVENT
END:VCALENDAR