BEGIN:VCALENDAR
VERSION:2.0
PRODID:-//Spojená škola, Jána Vojtaššáka 13, Žilina - ECPv6.0.8//NONSGML v1.0//EN
CALSCALE:GREGORIAN
METHOD:PUBLISH
X-WR-CALNAME:Spojená škola, Jána Vojtaššáka 13, Žilina
X-ORIGINAL-URL:https://www.szsza.sk
X-WR-CALDESC:Events for Spojená škola, Jána Vojtaššáka 13, Žilina
REFRESH-INTERVAL;VALUE=DURATION:PT1H
X-Robots-Tag:noindex
X-PUBLISHED-TTL:PT1H
BEGIN:VTIMEZONE
TZID:Europe/Bratislava
BEGIN:DAYLIGHT
TZOFFSETFROM:+0100
TZOFFSETTO:+0200
TZNAME:CEST
DTSTART:20200329T010000
END:DAYLIGHT
BEGIN:STANDARD
TZOFFSETFROM:+0200
TZOFFSETTO:+0100
TZNAME:CET
DTSTART:20201025T010000
END:STANDARD
BEGIN:DAYLIGHT
TZOFFSETFROM:+0100
TZOFFSETTO:+0200
TZNAME:CEST
DTSTART:20210328T010000
END:DAYLIGHT
BEGIN:STANDARD
TZOFFSETFROM:+0200
TZOFFSETTO:+0100
TZNAME:CET
DTSTART:20211031T010000
END:STANDARD
BEGIN:DAYLIGHT
TZOFFSETFROM:+0100
TZOFFSETTO:+0200
TZNAME:CEST
DTSTART:20220327T010000
END:DAYLIGHT
BEGIN:STANDARD
TZOFFSETFROM:+0200
TZOFFSETTO:+0100
TZNAME:CET
DTSTART:20221030T010000
END:STANDARD
BEGIN:DAYLIGHT
TZOFFSETFROM:+0100
TZOFFSETTO:+0200
TZNAME:CEST
DTSTART:20230326T010000
END:DAYLIGHT
BEGIN:STANDARD
TZOFFSETFROM:+0200
TZOFFSETTO:+0100
TZNAME:CET
DTSTART:20231029T010000
END:STANDARD
END:VTIMEZONE
BEGIN:VEVENT
DTSTART;VALUE=DATE:20200701
DTEND;VALUE=DATE:20200902
DTSTAMP:20260422T050647
CREATED:20190821T065622Z
LAST-MODIFIED:20190821T065622Z
UID:3335-1593561600-1599004799@www.szsza.sk
SUMMARY:Letné prázdniny
DESCRIPTION:Letné: 1. júl (streda) až 31. august 2020 (pondelok). Vyučovanie sa začne 2. septembra 2020 (streda).
URL:https://www.szsza.sk/event/letne-prazdniny-2/
END:VEVENT
BEGIN:VEVENT
DTSTART;TZID=Europe/Bratislava:20200902T080000
DTEND;TZID=Europe/Bratislava:20200902T170000
DTSTAMP:20260422T050647
CREATED:20200930T090827Z
LAST-MODIFIED:20200930T090827Z
UID:5144-1599033600-1599066000@www.szsza.sk
SUMMARY:Otvorenie školského roka
DESCRIPTION:
URL:https://www.szsza.sk/event/otvorenie-skolskeho-roka/
END:VEVENT
BEGIN:VEVENT
DTSTART;TZID=Europe/Bratislava:20200924T080000
DTEND;TZID=Europe/Bratislava:20200926T170000
DTSTAMP:20260422T050647
CREATED:20200930T091216Z
LAST-MODIFIED:20200930T091216Z
UID:5150-1600934400-1601139600@www.szsza.sk
SUMMARY:Informácia o prechode školy do úrovne oranžovej fázy
DESCRIPTION:
URL:https://www.szsza.sk/event/informacia-o-prechode-skoly-do-urovne-oranzovej-fazy/
END:VEVENT
BEGIN:VEVENT
DTSTART;TZID=Europe/Bratislava:20200926T080000
DTEND;TZID=Europe/Bratislava:20201003T170000
DTSTAMP:20260422T050647
CREATED:20200930T091020Z
LAST-MODIFIED:20200930T091122Z
UID:5147-1601107200-1601744400@www.szsza.sk
SUMMARY:Prerušenie vyučovania z rozhodnutia RÚVZ
DESCRIPTION:
URL:https://www.szsza.sk/event/prerusenie-vyucovania-z-rozhodnutia-ruvz/
CATEGORIES:Centrum špeciálno - pedagogického poradenstva,Školský klub detí,Špeciálna materská škola,Špeciálna základná škola,Všeobecné
END:VEVENT
BEGIN:VEVENT
DTSTART;VALUE=DATE:20201211
DTEND;VALUE=DATE:20201212
DTSTAMP:20260422T050647
CREATED:20201208T135446Z
LAST-MODIFIED:20201208T135446Z
UID:5667-1607644800-1607731199@www.szsza.sk
SUMMARY:Riaditeľské voľno
DESCRIPTION:
URL:https://www.szsza.sk/event/riaditelske-volno-2/
END:VEVENT
BEGIN:VEVENT
DTSTART;TZID=Europe/Bratislava:20201215T080000
DTEND;TZID=Europe/Bratislava:20201215T170000
DTSTAMP:20260422T050647
CREATED:20201208T135635Z
LAST-MODIFIED:20201215T094202Z
UID:5669-1608019200-1608051600@www.szsza.sk
SUMMARY:Koniec súťaže "Najkrajšia vianočná pohľadnica"
DESCRIPTION:Výsledky súťaž nájdete na tomto odkaze.
URL:https://www.szsza.sk/event/koniec-sutaze-najkrajsia-vianocna-pohladnica/
END:VEVENT
BEGIN:VEVENT
DTSTART;TZID=Europe/Bratislava:20201221T080000
DTEND;TZID=Europe/Bratislava:20210110T170000
DTSTAMP:20260422T050647
CREATED:20201208T135736Z
LAST-MODIFIED:20201215T094230Z
UID:5671-1608537600-1610298000@www.szsza.sk
SUMMARY:Vianočné prázdniny
DESCRIPTION:
URL:https://www.szsza.sk/event/vianocne-prazdniny-2/
END:VEVENT
BEGIN:VEVENT
DTSTART;VALUE=DATE:20210213
DTEND;VALUE=DATE:20210222
DTSTAMP:20260422T050647
CREATED:20210211T182541Z
LAST-MODIFIED:20210211T182645Z
UID:6239-1613174400-1613951999@www.szsza.sk
SUMMARY:Jarné prázdniny
DESCRIPTION:Jarné prázdniny: 13. február až 21. február 2021. Vyučovanie sa začne 22. februára 2021.
URL:https://www.szsza.sk/event/jarne-prazdniny-2/
END:VEVENT
BEGIN:VEVENT
DTSTART;VALUE=DATE:20220204
DTEND;VALUE=DATE:20220205
DTSTAMP:20260422T050647
CREATED:20220201T113404Z
LAST-MODIFIED:20220201T113427Z
UID:8165-1643932800-1644019199@www.szsza.sk
SUMMARY:Polročné prázdniny
DESCRIPTION:OZNAM \nv piatok 4. 2. 2022 budú POLROČNÉ PRÁZDNINY. \nŠZŠ\, ŠMŠ a ŠKD nebude v prevádzke. Deti a žiaci budú zo stravovania odhlásení. \nVedenie školy
URL:https://www.szsza.sk/event/polrocne-prazdniny-2/
CATEGORIES:Všeobecné
END:VEVENT
BEGIN:VEVENT
DTSTART;VALUE=DATE:20220414
DTEND;VALUE=DATE:20220420
DTSTAMP:20260422T050647
CREATED:20220411T070313Z
LAST-MODIFIED:20220411T070313Z
UID:8493-1649894400-1650412799@www.szsza.sk
SUMMARY:Oznam - Veľkonočné prázdniny
DESCRIPTION:Milí rodičia\, \nv termíne od 14. 4. 2022 (štvrtok) do 19. 4. 2022 (utorok) budú VEĽKONOČNÉ PRÁZDNINY. \nŠMŠ\, ŠZŠ\, ŠKD bude v prevádzke od 20. 4. 2022 (streda). \nVedenie školy
URL:https://www.szsza.sk/event/oznam-velkonocne-prazdniny/
CATEGORIES:Všeobecné
END:VEVENT
BEGIN:VEVENT
DTSTART;VALUE=DATE:20231030
DTEND;VALUE=DATE:20231101
DTSTAMP:20260422T050647
CREATED:20231023T080337Z
LAST-MODIFIED:20231023T080337Z
UID:28333-1698624000-1698796799@www.szsza.sk
SUMMARY:Oznam - Jesenné prázdniny
DESCRIPTION:OZNAM \nv termíne od 30. 10. – 31. 10. 2023 (pondelok – utorok) budú JESENNÉ PRÁZDNINY. \nSpojená škola bude v prevádzke od 2. 11. 2023 (štvrtok). \nVedenie školy
URL:https://www.szsza.sk/event/oznam-jesenne-prazdniny/
CATEGORIES:Všeobecné
END:VEVENT
END:VCALENDAR