BEGIN:VCALENDAR
VERSION:2.0
PRODID:-//Spojená škola, Jána Vojtaššáka 13, Žilina - ECPv6.0.8//NONSGML v1.0//EN
CALSCALE:GREGORIAN
METHOD:PUBLISH
X-WR-CALNAME:Spojená škola, Jána Vojtaššáka 13, Žilina
X-ORIGINAL-URL:https://www.szsza.sk
X-WR-CALDESC:Events for Spojená škola, Jána Vojtaššáka 13, Žilina
REFRESH-INTERVAL;VALUE=DURATION:PT1H
X-Robots-Tag:noindex
X-PUBLISHED-TTL:PT1H
BEGIN:VTIMEZONE
TZID:Europe/Bratislava
BEGIN:DAYLIGHT
TZOFFSETFROM:+0100
TZOFFSETTO:+0200
TZNAME:CEST
DTSTART:20190331T010000
END:DAYLIGHT
BEGIN:STANDARD
TZOFFSETFROM:+0200
TZOFFSETTO:+0100
TZNAME:CET
DTSTART:20191027T010000
END:STANDARD
END:VTIMEZONE
BEGIN:VEVENT
DTSTART;TZID=Europe/Bratislava:20191016T093000
DTEND;TZID=Europe/Bratislava:20191016T103000
DTSTAMP:20260422T115212
CREATED:20190929T172957Z
LAST-MODIFIED:20191007T165607Z
UID:3495-1571218200-1571221800@www.szsza.sk
SUMMARY:Návšteva Krajskej knižnice v Žiline
DESCRIPTION:Žiaci niektorých tried prvého stupňa sa zúčastnia aktivity s názvom Dielo Martákovej\, Ďuríčkovej\, Bendovej.
URL:https://www.szsza.sk/event/navsteva-krajskej-kniznice-v-ziline/
LOCATION:Krajská knižnica v Žiline\, Ul. A.Bernoláka 47\, Žilina\, 01177\, Slovenská republika
END:VEVENT
BEGIN:VEVENT
DTSTART;VALUE=DATE:20191015
DTEND;VALUE=DATE:20191016
DTSTAMP:20260422T115212
CREATED:20190929T174116Z
LAST-MODIFIED:20190929T174224Z
UID:3500-1571097600-1571183999@www.szsza.sk
SUMMARY:Môj stromček žije
DESCRIPTION:V tento deň sa uskutoční pravidelná celoškolská akcia s názvom Môj stromček žije. ˇPočas nej si skrášlime okolie školy\, spravíme si malý výlet do okolia školy a budú pripravené aj aktivity z oblasti protidrogovej prevencie\, canisterapia a poskytovania prvej pomoci v spolupráci so Strednou zdravotníckou školou v Žiline. \nTermín sa môže zmeniť v závislosti od počasia. \n  \nVyučovanie v špeciálnej základnej škole pre všetky ročníky bude končiť o 11:40. ŠKD bude v prevádzke normálne.
URL:https://www.szsza.sk/event/moj-stromcek-zije/
END:VEVENT
BEGIN:VEVENT
DTSTART;TZID=Europe/Bratislava:20190926T080000
DTEND;TZID=Europe/Bratislava:20190926T120000
DTSTAMP:20260422T115212
CREATED:20190926T174108Z
LAST-MODIFIED:20190926T174400Z
UID:3439-1569484800-1569499200@www.szsza.sk
SUMMARY:Trojboj v Špeciálnej základnej škole internátnej v Bytči
DESCRIPTION:Naše žiačky Terézia Garelová a Mária Melová sa zúčastnia podujatia Trojboj v Špeciálnej základnej škole internátnej v Bytči. Držíme im palce.
URL:https://www.szsza.sk/event/trojboj-v-specialnej-zakladnej-skole-internatnej-v-bytci/
LOCATION:SŠI Bytča\, Mičurova 367/3\, Bytča\, 01401\, Slovenská republika
END:VEVENT
BEGIN:VEVENT
DTSTART;TZID=Europe/Bratislava:20190924T153000
DTEND;TZID=Europe/Bratislava:20190924T163000
DTSTAMP:20260422T115212
CREATED:20190906T051651Z
LAST-MODIFIED:20190919T093246Z
UID:3387-1569339000-1569342600@www.szsza.sk
SUMMARY:Celoškolské rodičovské združenie
DESCRIPTION:Prosíme všetkých rodičov žiakov špeciálnej základnej školy o účasť! \nZmena času! Začiatok o 15:30
URL:https://www.szsza.sk/event/celoskolske-rodicovske-zdruzenie/
LOCATION:Špeciálna základná škola s materskou školou\, Jána Vojtaššáka 13\, Žilina\, 01008\, Slovenská republika
END:VEVENT
BEGIN:VEVENT
DTSTART;TZID=Europe/Bratislava:20190924T080000
DTEND;TZID=Europe/Bratislava:20190924T120000
DTSTAMP:20260422T115212
CREATED:20190919T094511Z
LAST-MODIFIED:20190919T094511Z
UID:3431-1569312000-1569326400@www.szsza.sk
SUMMARY:Paralympiáda na SZŠ v Žiline
DESCRIPTION:Dňa 24. 9. sa naši žiaci zúčastnia pravidelného podujatia\, ktoré pre nás pripravuje Stredná zdravotnícka škola v Žiline. Súčasťou sú  športové hry a zábavné úlohy pre žiakov.
URL:https://www.szsza.sk/event/paralympiada-na-szs-v-ziline/
LOCATION:Športové hry\, Hlboká cesta 23\, Žilina\, Slovenská republika\, 01008\, Slovenská republika
END:VEVENT
BEGIN:VEVENT
DTSTART;TZID=Europe/Bratislava:20190909T120000
DTEND;TZID=Europe/Bratislava:20190920T130000
DTSTAMP:20260422T115212
CREATED:20190906T052253Z
LAST-MODIFIED:20190908T180528Z
UID:3389-1568030400-1568984400@www.szsza.sk
SUMMARY:Plavecký kurz
DESCRIPTION:POKYNY  PRE PLAVECKÝ KURZ \nV termíne od 09.09. do 20.09. 2019 sa zúčastníme plaveckého výcviku v dňoch pondelok až piatok (každý deň) a to v čase od 12.00 do 13.00 hod. Zároveň bude prebiehať v ranných hodinách vyučovanie podľa celoročného  týždenného rozvrhu vždy prvé štyri vyučovacie hodiny. Po výcviku tí žiaci \, ktorí chodia na obed sa naobedujú a pôjdu domov\, družinári sa  naobedujú a zostanú v ŠKD. Predpokladaný návrat z výcviku je do  14.00 hod. \nNa hodinu plaveckej výučby je potrebné\, aby žiak mal vhodné oblečenie na cestu tam aj späť podľa počasia (radšej teplejšie oblečenie\, čiapky\, šály\, pršiplášť či dáždnik) \, plavky\, osušku\, šľapky\, osobné hygienické potreby\, s dlhými vlasmi aj plaveckú čiapku\, aby nemal pri výučbe nadmerne dlhé nechty. Odporúčame veci žiakom podpísať.\n \nJe zakázané na plaváreň nosiť cennosti ako hodinky\, prstene\, retiazky\, mobil a peniaze. Školské veci bude mať žiak v školskej aktovke a veci na plavecký výcvik v plecniaku\, nie v igelitovej taške!
URL:https://www.szsza.sk/event/plavecky-vycvik/
LOCATION:Mestká plaváreň Žilina\, Vysokoškolákov 1765/8\, Žilina\, 01008\, Slovenská republika
END:VEVENT
BEGIN:VEVENT
DTSTART;TZID=Europe/Bratislava:20190902T080000
DTEND;TZID=Europe/Bratislava:20190902T090000
DTSTAMP:20260422T115212
CREATED:20190703T091553Z
LAST-MODIFIED:20190703T091611Z
UID:3227-1567411200-1567414800@www.szsza.sk
SUMMARY:Slávnostný začiatok školského roka 2019/2020
DESCRIPTION:Slávnostný začiatok nového školského roka bude 2. 9. 2019 o 8:00 na školskom dvore. V prípade zlého počasia v telocvični školy. \n 
URL:https://www.szsza.sk/event/slavnostny-zaciatok-skolskeho-roka-2019-2020/
LOCATION:Špeciálna základná škola s materskou školou\, Jána Vojtaššáka 13\, Žilina\, 01008\, Slovenská republika
CATEGORIES:Centrum špeciálno - pedagogického poradenstva,Školský klub detí,Špeciálna materská škola,Špeciálna základná škola,Všeobecné
END:VEVENT
BEGIN:VEVENT
DTSTART;VALUE=DATE:20190629
DTEND;VALUE=DATE:20190902
DTSTAMP:20260422T115212
CREATED:20190527T095605Z
LAST-MODIFIED:20190528T163644Z
UID:2758-1561766400-1567382399@www.szsza.sk
SUMMARY:Letné prázdniny
DESCRIPTION:
URL:https://www.szsza.sk/event/letne-prazdniny/
CATEGORIES:Všeobecné
END:VEVENT
BEGIN:VEVENT
DTSTART;VALUE=DATE:20190628
DTEND;VALUE=DATE:20190629
DTSTAMP:20260422T115212
CREATED:20190604T092811Z
LAST-MODIFIED:20190604T092929Z
UID:2966-1561680000-1561766399@www.szsza.sk
SUMMARY:Riaditeľské voľno
DESCRIPTION:Na deň 28. 6. 2019 riaditeľka školy udeľuje žiakom riaditeľské voľno.
URL:https://www.szsza.sk/event/riaditelske-volno/
CATEGORIES:Centrum špeciálno - pedagogického poradenstva,Školský klub detí,Špeciálna materská škola,Špeciálna základná škola,Všeobecné
END:VEVENT
BEGIN:VEVENT
DTSTART;TZID=Europe/Bratislava:20190627T080000
DTEND;TZID=Europe/Bratislava:20190627T090000
DTSTAMP:20260422T115212
CREATED:20190603T103053Z
LAST-MODIFIED:20190603T103053Z
UID:2964-1561622400-1561626000@www.szsza.sk
SUMMARY:Slávnostné ukončenie školského roka
DESCRIPTION:Slávnostné ukončenie školského roka a odovzdanie vysvedčení bude dňa 27. 6. 2019.
URL:https://www.szsza.sk/event/slavnostne-ukoncenie-skolskeho-roka/
CATEGORIES:Školský klub detí,Špeciálna materská škola,Špeciálna základná škola,Všeobecné
END:VEVENT
BEGIN:VEVENT
DTSTART;TZID=Europe/Bratislava:20190626T143000
DTEND;TZID=Europe/Bratislava:20190626T160000
DTSTAMP:20260422T115212
CREATED:20190603T102822Z
LAST-MODIFIED:20190603T102822Z
UID:2962-1561559400-1561564800@www.szsza.sk
SUMMARY:Rozlúčka s predškolákmi v ŠMŠ
DESCRIPTION:Dňa 26. 6. 2019 sa v ŠMŠ rozlúčime s končiacimi deťmi\, predškolákmi. Odchádzajú aj do nových škôl\, za novými priateľstvami\, ale nám aj napriek tomu budú chýbať.
URL:https://www.szsza.sk/event/rozlucka-s-predskolakmi-v-sms/
CATEGORIES:Špeciálna materská škola
END:VEVENT
BEGIN:VEVENT
DTSTART;TZID=Europe/Bratislava:20190626T133000
DTEND;TZID=Europe/Bratislava:20190626T153000
DTSTAMP:20260422T115212
CREATED:20190529T194623Z
LAST-MODIFIED:20190529T194623Z
UID:2925-1561555800-1561563000@www.szsza.sk
SUMMARY:Rozlúčka s kamarátmi v ŠKD
DESCRIPTION:Dňa 26. 6. 2019 sa v ŠKD rozlúčime s končiacimi deťmi\, teda deviatakmi a prípravkármi. Odchádzajú do nových škôl\, za novými priateľstvami\, ale nám aj napriek tomu budú chýbať.
URL:https://www.szsza.sk/event/rozlucka-s-kamaratmi-v-skd/
CATEGORIES:Školský klub detí
END:VEVENT
BEGIN:VEVENT
DTSTART;TZID=Europe/Bratislava:20190618T130000
DTEND;TZID=Europe/Bratislava:20190618T153000
DTSTAMP:20260422T115212
CREATED:20190529T194224Z
LAST-MODIFIED:20190603T102430Z
UID:2923-1560862800-1560871800@www.szsza.sk
SUMMARY:Grilovačka v ŠKD a ŠMŠ
DESCRIPTION:Školský klub detí už tradične pripraví pre deti rozlúčkovú grilovačku na dvore školy\, spojenú so zábavnými hrami\, súťažami a tancom. Termín sa môže zmeniť v závislosti od počasia.\n \nV podobnom termíne bude aj tradičná opekačka v ŠMŠ.
URL:https://www.szsza.sk/event/grilovacka-v-skd/
CATEGORIES:Školský klub detí,Špeciálna materská škola
END:VEVENT
BEGIN:VEVENT
DTSTART;TZID=Europe/Bratislava:20190617T080000
DTEND;TZID=Europe/Bratislava:20190619T120000
DTSTAMP:20260422T115212
CREATED:20190527T095406Z
LAST-MODIFIED:20190527T181811Z
UID:2756-1560758400-1560945600@www.szsza.sk
SUMMARY:Dopravné ihrisko
DESCRIPTION:Naši žiaci sa zúčastnia vyučovania dopravnej výchovy na Multifunkčnom detskom dopravnom ihrisku v Žiline.
URL:https://www.szsza.sk/event/dopravne-ihrisko-2/
LOCATION:Dopravné ihrisko\, Vlčince\, Žilina\, 01008\, Slovenská republika
CATEGORIES:Špeciálna základná škola
END:VEVENT
BEGIN:VEVENT
DTSTART;TZID=Europe/Bratislava:20190614T081500
DTEND;TZID=Europe/Bratislava:20190614T100000
DTSTAMP:20260422T115212
CREATED:20190527T095228Z
LAST-MODIFIED:20190527T181831Z
UID:2753-1560500100-1560506400@www.szsza.sk
SUMMARY:Výchovný koncert - O škole
DESCRIPTION:V našich priestoroch sa dňa 14. 5. 2019 o 8:15 uskutoční výchovný koncert s názvom „O škole“.
URL:https://www.szsza.sk/event/vychovny-koncert-o-skole/
LOCATION:Špeciálna základná škola s materskou školou\, Jána Vojtaššáka 13\, Žilina\, 01008\, Slovenská republika
CATEGORIES:Špeciálna materská škola,Špeciálna základná škola
END:VEVENT
BEGIN:VEVENT
DTSTART;TZID=Europe/Bratislava:20190613T090000
DTEND;TZID=Europe/Bratislava:20190613T100000
DTSTAMP:20260422T115212
CREATED:20190603T102015Z
LAST-MODIFIED:20190603T102158Z
UID:2959-1560416400-1560420000@www.szsza.sk
SUMMARY:Návšteva podujatia v Krajskej knižnici
DESCRIPTION:Žiaci prípravného ročníka s NKS\, tried 5. B a 6. B sa zúčastnia na návšteve podujatia v Krajskej knižnici v Žiline.
URL:https://www.szsza.sk/event/navsteva-podujatia-v-krajskej-kniznici/
CATEGORIES:Špeciálna základná škola
END:VEVENT
BEGIN:VEVENT
DTSTART;TZID=Europe/Bratislava:20190613T080000
DTEND;TZID=Europe/Bratislava:20190613T120000
DTSTAMP:20260422T115212
CREATED:20190524T102720Z
LAST-MODIFIED:20190527T181855Z
UID:2726-1560412800-1560427200@www.szsza.sk
SUMMARY:Exkurzia v Súkromnej praktickej škole\, Bánová -Žilina II.
DESCRIPTION:Dňa 11. 6. sa triedy zapojené do projektu „Príprava na ďalšie vzdelávanie žiakov s mentálnym postihnutím“ zúčastnia exkurzie v Súkromnej praktickej škole\, Bánová -Žilina.
URL:https://www.szsza.sk/event/exkurzia/
LOCATION:Súkromná praktická škola\, Do Stošky 8\, Žilina\, 01004\, Slovenská republika
CATEGORIES:Špeciálna základná škola
END:VEVENT
BEGIN:VEVENT
DTSTART;TZID=Europe/Bratislava:20190612T080000
DTEND;TZID=Europe/Bratislava:20190612T120000
DTSTAMP:20260422T115212
CREATED:20190524T092334Z
LAST-MODIFIED:20190530T122152Z
UID:2709-1560326400-1560340800@www.szsza.sk
SUMMARY:Športové hry
DESCRIPTION:Dňa 12. 6. 2019 organizuje naša škola „Športové hry žiakov špeciálnych základných škôl Žilinského regiónu“\,  ktoré sa uskutočnia dňa 12.júna 2019 v športovom areáli SZŠ\, Hlboká cesta 23\, Žilina.
URL:https://www.szsza.sk/event/sportove-hry/
LOCATION:Športové hry\, Hlboká cesta 23\, Žilina\, Slovenská republika\, 01008\, Slovenská republika
CATEGORIES:Špeciálna základná škola
END:VEVENT
BEGIN:VEVENT
DTSTART;TZID=Europe/Bratislava:20190612T080000
DTEND;TZID=Europe/Bratislava:20190612T090000
DTSTAMP:20260422T115212
CREATED:20190610T185322Z
LAST-MODIFIED:20190610T185322Z
UID:2983-1560326400-1560330000@www.szsza.sk
SUMMARY:Test
DESCRIPTION:
URL:https://www.szsza.sk/event/test/
END:VEVENT
BEGIN:VEVENT
DTSTART;TZID=Europe/Bratislava:20190611T133000
DTEND;TZID=Europe/Bratislava:20190611T150000
DTSTAMP:20260422T115212
CREATED:20190529T192921Z
LAST-MODIFIED:20190603T101713Z
UID:2919-1560259800-1560265200@www.szsza.sk
SUMMARY:MDD v ŠKD
DESCRIPTION:V školskom klube detí budeme dňa 6. 6. 2019 oslavovať MDD počas zábavného popoludnia.
URL:https://www.szsza.sk/event/mdd-v-skd/
CATEGORIES:Školský klub detí
END:VEVENT
BEGIN:VEVENT
DTSTART;TZID=Europe/Bratislava:20190611T080000
DTEND;TZID=Europe/Bratislava:20190611T120000
DTSTAMP:20260422T115212
CREATED:20190524T102548Z
LAST-MODIFIED:20190527T182305Z
UID:2723-1560240000-1560254400@www.szsza.sk
SUMMARY:Exkurzia v Súkromnej praktickej škole\, Bánová -Žilina I.
DESCRIPTION:Dňa 11. 6. sa triedy zapojené do projektu „Príprava na ďalšie vzdelávanie žiakov s mentálnym postihnutím“ zúčastnia exkurzie v Súkromnej praktickej škole\, Bánová -Žilina.
URL:https://www.szsza.sk/event/exkurzia-v-sukromnej-praktickej-skole-banova-zilina/
LOCATION:Súkromná praktická škola\, Do Stošky 8\, Žilina\, 01004\, Slovenská republika
CATEGORIES:Špeciálna základná škola
END:VEVENT
BEGIN:VEVENT
DTSTART;TZID=Europe/Bratislava:20190610T080000
DTEND;TZID=Europe/Bratislava:20190612T170000
DTSTAMP:20260422T115212
CREATED:20190527T094828Z
LAST-MODIFIED:20190527T182313Z
UID:2750-1560153600-1560358800@www.szsza.sk
SUMMARY:Dopravné ihrisko
DESCRIPTION:Naši žiaci sa zúčastnia vyučovania dopravnej výchovy na Multifunkčnom detskom dopravnom ihrisku v Žiline.
URL:https://www.szsza.sk/event/dopravne-ihrisko/
LOCATION:Dopravné ihrisko\, Vlčince\, Žilina\, 01008\, Slovenská republika
CATEGORIES:Špeciálna základná škola
END:VEVENT
BEGIN:VEVENT
DTSTART;TZID=Europe/Bratislava:20190610T080000
DTEND;TZID=Europe/Bratislava:20190610T120000
DTSTAMP:20260422T115212
CREATED:20190524T103205Z
LAST-MODIFIED:20190527T182326Z
UID:2730-1560153600-1560168000@www.szsza.sk
SUMMARY:Exkurzia v Praktickej škole v Bytči
DESCRIPTION:Dňa 10. 6. sa triedy zapojené do projektu „Príprava na ďalšie vzdelávanie žiakov s mentálnym postihnutím“ zúčastnia exkurzie v Praktickej škole v Bytči\, ktorá je súčasťou SŠI Bytča.
URL:https://www.szsza.sk/event/exkurzia-v-praktickej-skole-bytca/
LOCATION:SŠI Bytča\, Mičurova 367/3\, Bytča\, 01401\, Slovenská republika
CATEGORIES:Špeciálna základná škola
END:VEVENT
BEGIN:VEVENT
DTSTART;VALUE=DATE:20190603
DTEND;VALUE=DATE:20190608
DTSTAMP:20260422T115212
CREATED:20190527T092725Z
LAST-MODIFIED:20190625T155214Z
UID:2747-1559520000-1559951999@www.szsza.sk
SUMMARY:Škola v prírode
DESCRIPTION:Žiaci 2. A a 3. A sa v dňoch 3. – 7. 5. 2019 zúčastnia školy v prírode v Penzióne Štefánik v Súľove. Počas pobytu je pre žiakov pripravený pestrý program ako výlet do mesta Bytča\, jazdenie na koni\, návšteva pamätnej izby\, lesná pedagogika a opekačka.
URL:https://www.szsza.sk/event/skola-v-prirode/
LOCATION:Penzion Štefánik\, 393\, Súľov - Hradná\, 01352
CATEGORIES:Špeciálna základná škola
END:VEVENT
BEGIN:VEVENT
DTSTART;TZID=Europe/Bratislava:20190531T080000
DTEND;TZID=Europe/Bratislava:20190531T120000
DTSTAMP:20260422T115212
CREATED:20190529T193320Z
LAST-MODIFIED:20190529T193320Z
UID:2921-1559289600-1559304000@www.szsza.sk
SUMMARY:MDD v škole
DESCRIPTION:Dňa 31. 5. 2019 oslávime MDD v škole  netradičným spôsobom. Žiaci strávia spolu dopoludnie v prírode (ak nám to počasie dovolí) a obdaria sa navzájom malým zdravým darčekom.
URL:https://www.szsza.sk/event/mdd-v-skole/
CATEGORIES:Špeciálna základná škola
END:VEVENT
BEGIN:VEVENT
DTSTART;TZID=Europe/Bratislava:20190530T090000
DTEND;TZID=Europe/Bratislava:20190530T093000
DTSTAMP:20260422T115212
CREATED:20190527T090309Z
LAST-MODIFIED:20190530T121428Z
UID:2740-1559206800-1559208600@www.szsza.sk
SUMMARY:Čítajme si
DESCRIPTION:Žiaci 8. A a 10. B sa zúčastnia podujatia „Čítajme si …“ v Literárnom parku za Krajskou knižnicou v Žiline.
URL:https://www.szsza.sk/event/citajme-si/
LOCATION:Krajská knižnica v Žiline\, Ul. A.Bernoláka 47\, Žilina\, 01177\, Slovenská republika
CATEGORIES:Špeciálna základná škola
END:VEVENT
BEGIN:VEVENT
DTSTART;VALUE=DATE:20190530
DTEND;VALUE=DATE:20190531
DTSTAMP:20260422T115212
CREATED:20190527T091516Z
LAST-MODIFIED:20190527T182354Z
UID:2744-1559174400-1559260799@www.szsza.sk
SUMMARY:Puzzliáda v Ostrave
DESCRIPTION:Dňa 30. 5. sa naši žiaci: Matej Martinický\, Darinka Laščiaková\, Šimon Pažický a Lenka Janičkovičová s pani učiteľkou PaedDr. Oľgou Uhliarikovou zúčastnia mestského kola v skladaní puzzle v Základní škole speciální v Ostrave.
URL:https://www.szsza.sk/event/puzzliada-v-ostrave/
LOCATION:Zákoladní škola speciální\, Těšínská 41/98\, Ostrava\, 71000\, Česká republika
CATEGORIES:Špeciálna základná škola
END:VEVENT
BEGIN:VEVENT
DTSTART;TZID=Europe/Bratislava:20190528T080000
DTEND;TZID=Europe/Bratislava:20190528T130000
DTSTAMP:20260422T115212
CREATED:20190528T175440Z
LAST-MODIFIED:20190528T175614Z
UID:2908-1559030400-1559048400@www.szsza.sk
SUMMARY:Cestou necestou
DESCRIPTION:Dňa 28. 5. 2019 sa dvaja žiaci školy zúčastnia podujatia „Cestou necestou“\, ktoré organizuje Špeciálna základná škola v Turzovke – Stred v spolupráci s CVČ Turzovka.
URL:https://www.szsza.sk/event/cestou-necestou/
LOCATION:Areál športu a oddychu\, Slovanská 62/7\, Turzovka\, 02354\, Slovenská republika
CATEGORIES:Špeciálna základná škola
END:VEVENT
BEGIN:VEVENT
DTSTART;TZID=Europe/Bratislava:20190514T083000
DTEND;TZID=Europe/Bratislava:20190514T123000
DTSTAMP:20260422T115212
CREATED:20190524T103615Z
LAST-MODIFIED:20190527T182407Z
UID:2734-1557822600-1557837000@www.szsza.sk
SUMMARY:Konferencia 14. 5. 2019
DESCRIPTION:Dňa 14. 5. 2019 organizovala naša škola konferenciu s názvom „Možnosti vzdelávania žiakov s mentálnym postihnutím“ s kódom 304011C854. Konferencie sa zúčastnili pozvaní hostia z OÚ Žilina pani Mgr. Janka Černická\, zo Štátnej školskej inšpekcie pani inšpektorka Mgr. Jozefína Šarlayová\, z UK PDF v Bratislave Mgr. Michal Zemko\, MBA\, kolegovia z partnerskej Základní školy speciální v Slezskej Ostrave Mgr. Josef Hartoš a Mgr. Petra Poláčková. V úvode konferencie vystúpili žiaci našej školy s krátkym kultúrnym programom a následne boli odprezentované aktivity a skúsenosti z projektu pod názvom „Príprava na ďalšie vzdelávanie žiakov s mentálnym postihnutím“. Medzi aktívnymi účastníkmi boli zástupcovia OU a PŠ z Bytče\, Žiliny\, Kysuckého Nového Mesta a Žiliny – Bánovej\, ktorí informovali o možnostiach vzdelávania na svojich školách. Psychologička a výchovná poradkyňa našej školy a CŠPP informovali o podmienkach vzdelávania na OU a PŠ po ukončení primárneho vzdelávania žiakov.  \nKonferencie sa zúčastnili rodičia\, odborníci zo špeciálnych škôl\, rovnako aj učitelia a výchovní poradcovia z bežných škôl. \nVšetkým aktívnym a pasívnym účastníkom ďakujeme za ich účasť. Rovnako ďakujeme všetkým\, ktorí sa podieľali na príprave konferencie. \nOdkaz na program a pozvánku
URL:https://www.szsza.sk/event/konferencia-14-5-2019/
CATEGORIES:Centrum špeciálno - pedagogického poradenstva,Školský klub detí,Špeciálna materská škola,Špeciálna základná škola
END:VEVENT
END:VCALENDAR